{"text_format":"1","workbook":"xlsx","n_sheets":2,"sheets":["Hoja1","Hoja2"],"not_rendered":{"charts":0,"images":3,"macros":1,"external_links":0,"defined_names":0,"comments":0,"pivot_tables":0},"unopened":[],"bounds":{"document_bytes":16777216,"sheet_cells":100000,"rows_first":2000,"rows_last":500,"rows_between":2000,"halvings":0,"cell_chars":16384,"cell_head_chars":4096},"cells_cut":0,"cells_raw":0,"read":"whole","date_system":"1900"}

{"sheet":"Hoja1","index":0,"n_rows":31,"n_cols":14,"rows_kept":31,"cut":false,"hidden":false,"merged":[[4,11,4,14],[11,11,11,12],[0,0,0,14],[1,0,2,1],[1,2,1,14],[2,2,2,14]]}
["Evaluación de vectores"]
["Instrucciones",null,"1) Oprimir \"Limpiar hoja de trabajo\" y después \"Generar examen rápido\"."]
[null,null,"2) Resolver los ejercicios y escribir las respuestas (redondeadas a dos dígitos) en las celdas M6:O10. \n3) Si la respuesta es un escalar usar sólo la columna M.\n4) Al terminar oprimir el botón \"Evaluar examen rápido\"."]
[]
[null,0,null,null,null,null,null,null,null,null,null,"Respuestas (2 cifras decimales)"]
[null,1,null,null,null,null,null,null,null,null,{"$f":"IF(OR($B$6=0,$B$5=0),\"\",Hoja2!K1)","v":""},"1)"]
[null,null,null,null,null,null,null,null,null,null,{"$f":"IF(OR($B$6=0,$B$5=0),\"\",Hoja2!K2)","v":""},"2)"]
["1) ",{"$f":"IF($B$6=0,\"\",Hoja2!B8)","v":"Determina la proyección de B sobre A si"},null,null,null,null,null,null,null,null,{"$f":"IF(OR($B$6=0,$B$5=0),\"\",Hoja2!K3)","v":""},"3)"]
[null,null,null,null,null,null,null,null,null,null,{"$f":"IF(OR($B$6=0,$B$5=0),\"\",Hoja2!K4)","v":""},"4)"]
[null,{"$f":"IF($B$6=0,\"\",Hoja2!B10)","v":"A = "},{"$f":"IF($B$6=0,\"\",Hoja2!C10)","v":6},{"$f":"IF($B$6=0,\"\",Hoja2!D10)","v":5},{"$f":"IF($B$6=0,\"\",Hoja2!E10)","v":4},null,null,null,null,null,{"$f":"IF(OR($B$6=0,$B$5=0),\"\",Hoja2!K5)","v":""},"5)"]
[null,{"$f":"IF($B$6=0,\"\",Hoja2!B11)","v":"B = "},{"$f":"IF($B$6=0,\"\",Hoja2!C11)","v":-10},{"$f":"IF($B$6=0,\"\",Hoja2!D11)","v":7},{"$f":"IF($B$6=0,\"\",Hoja2!E11)","v":-10}]
[null,null,null,null,null,null,null,null,null,null,null,"Calificación",null,{"$f":"IF(OR($B$6=0,$B$5=0),\"\",Hoja2!K6)","v":""}]
["2) ",{"$f":"IF($B$6=0,\"\",Hoja2!B13)","v":"Determina el producto escalar (A-B).(B+A) si"}]
[]
[null,{"$f":"IF($B$6=0,\"\",Hoja2!B15)","v":"A = "},{"$f":"IF($B$6=0,\"\",Hoja2!C15)","v":-2},{"$f":"IF($B$6=0,\"\",Hoja2!D15)","v":6},{"$f":"IF($B$6=0,\"\",Hoja2!E15)","v":10}]
[null,{"$f":"IF($B$6=0,\"\",Hoja2!B16)","v":"B = "},{"$f":"IF($B$6=0,\"\",Hoja2!C16)","v":8},{"$f":"IF($B$6=0,\"\",Hoja2!D16)","v":-3},{"$f":"IF($B$6=0,\"\",Hoja2!E16)","v":8}]
[]
["3) ",{"$f":"IF($B$6=0,\"\",Hoja2!B18)","v":"Determina la componente de B en la dirección de A si"}]
[]
[null,{"$f":"IF($B$6=0,\"\",Hoja2!B20)","v":"A = "},{"$f":"IF($B$6=0,\"\",Hoja2!C20)","v":-9},{"$f":"IF($B$6=0,\"\",Hoja2!D20)","v":-3},{"$f":"IF($B$6=0,\"\",Hoja2!E20)","v":6}]
[null,{"$f":"IF($B$6=0,\"\",Hoja2!B21)","v":"B = "},{"$f":"IF($B$6=0,\"\",Hoja2!C21)","v":9},{"$f":"IF($B$6=0,\"\",Hoja2!D21)","v":1},{"$f":"IF($B$6=0,\"\",Hoja2!E21)","v":-9}]
[]
["4) ",{"$f":"IF($B$6=0,\"\",Hoja2!B23)","v":"Determina los ángulos directores del vector A-B"}]
[]
[null,{"$f":"IF($B$6=0,\"\",Hoja2!B25)","v":"A = "},{"$f":"IF($B$6=0,\"\",Hoja2!C25)","v":2},{"$f":"IF($B$6=0,\"\",Hoja2!D25)","v":-4},{"$f":"IF($B$6=0,\"\",Hoja2!E25)","v":3}]
[null,{"$f":"IF($B$6=0,\"\",Hoja2!B26)","v":"B = "},{"$f":"IF($B$6=0,\"\",Hoja2!C26)","v":-1},{"$f":"IF($B$6=0,\"\",Hoja2!D26)","v":3},{"$f":"IF($B$6=0,\"\",Hoja2!E26)","v":-5}]
[]
["5) ",{"$f":"IF($B$6=0,\"\",Hoja2!B28)","v":"Determina el producto punto A.B si"}]
[]
[null,{"$f":"IF($B$6=0,\"\",Hoja2!B30)","v":"A = "},{"$f":"IF($B$6=0,\"\",Hoja2!C30)","v":-5},{"$f":"IF($B$6=0,\"\",Hoja2!D30)","v":7},{"$f":"IF($B$6=0,\"\",Hoja2!E30)","v":10}]
[null,{"$f":"IF($B$6=0,\"\",Hoja2!B31)","v":"B = "},{"$f":"IF($B$6=0,\"\",Hoja2!C31)","v":7},{"$f":"IF($B$6=0,\"\",Hoja2!D31)","v":2},{"$f":"IF($B$6=0,\"\",Hoja2!E31)","v":9}]

{"sheet":"Hoja2","index":1,"n_rows":31,"n_cols":14,"rows_kept":31,"cut":false,"hidden":true,"merged":[]}
[null,null,null,null,null,null,null,-5.0649350649350646,-4.220779220779221,-3.3766233766233764,null,null,{"$f":"IF(AND(ROUND(Hoja1!M6,2)=ROUND(Hoja2!H1,2),ROUND(Hoja1!N6,2)=ROUND(Hoja2!I1,2),ROUND(Hoja1!O6,2)=ROUND(Hoja2!J1,2)),\"correcta\",\"incorrecta\")","v":"incorrecta"},{"$f":"IF(AND(ROUND(Hoja1!M6,2)=ROUND(Hoja2!H1,2),ROUND(Hoja1!M6,2)=ROUND(Hoja2!H1,2),ROUND(Hoja1!M6,2)=ROUND(Hoja2!H1,2)),1,0)","v":0}]
[null,null,null,null,null,null,null,3,null,null,null,null,{"$f":"IF(AND(ROUND(Hoja1!M7,2)=ROUND(Hoja2!H2,2),ROUND(Hoja1!N7,2)=ROUND(Hoja2!I2,2),ROUND(Hoja1!O7,2)=ROUND(Hoja2!J2,2)),\"correcta\",\"incorrecta\")","v":"incorrecta"},{"$f":"IF(AND(ROUND(Hoja1!M7,2)=ROUND(Hoja2!H2,2),ROUND(Hoja1!M7,2)=ROUND(Hoja2!H2,2),ROUND(Hoja1!M7,2)=ROUND(Hoja2!H2,2)),1,0)","v":0}]
[null,null,null,null,null,null,null,-12.294017127971522,null,null,null,null,{"$f":"IF(AND(ROUND(Hoja1!M8,2)=ROUND(Hoja2!H3,2),ROUND(Hoja1!N8,2)=ROUND(Hoja2!I3,2),ROUND(Hoja1!O8,2)=ROUND(Hoja2!J3,2)),\"correcta\",\"incorrecta\")","v":"incorrecta"},{"$f":"IF(AND(ROUND(Hoja1!M8,2)=ROUND(Hoja2!H3,2),ROUND(Hoja1!M8,2)=ROUND(Hoja2!H3,2),ROUND(Hoja1!M8,2)=ROUND(Hoja2!H3,2)),1,0)","v":0}]
[null,null,null,null,null,null,null,1.2957336708039202,2.2571881106057941,0.76079807593431248,null,null,{"$f":"IF(AND(ROUND(Hoja1!M9,2)=ROUND(Hoja2!H4,2),ROUND(Hoja1!N9,2)=ROUND(Hoja2!I4,2),ROUND(Hoja1!O9,2)=ROUND(Hoja2!J4,2)),\"correcta\",\"incorrecta\")","v":"incorrecta"},{"$f":"IF(AND(ROUND(Hoja1!M9,2)=ROUND(Hoja2!H4,2),ROUND(Hoja1!M9,2)=ROUND(Hoja2!H4,2),ROUND(Hoja1!M9,2)=ROUND(Hoja2!H4,2)),1,0)","v":0}]
[null,null,null,null,null,null,null,69,null,null,null,null,{"$f":"IF(AND(ROUND(Hoja1!M10,2)=ROUND(Hoja2!H5,2),ROUND(Hoja1!N10,2)=ROUND(Hoja2!I5,2),ROUND(Hoja1!O10,2)=ROUND(Hoja2!J5,2)),\"correcta\",\"incorrecta\")","v":"incorrecta"},{"$f":"IF(AND(ROUND(Hoja1!M10,2)=ROUND(Hoja2!H5,2),ROUND(Hoja1!M10,2)=ROUND(Hoja2!H5,2),ROUND(Hoja1!M10,2)=ROUND(Hoja2!H5,2)),1,0)","v":0}]
[null,null,null,null,null,null,null,null,null,null,null,null,null,{"$f":"SUM(N1:N5)*20","v":0}]
[8,6,7,3,4]
[null,"Determina la proyección de B sobre A si"]
[]
[null,"A = ",6,5,4]
[null,"B = ",-10,7,-10]
[]
[null,"Determina el producto escalar (A-B).(B+A) si"]
[]
[null,"A = ",-2,6,10]
[null,"B = ",8,-3,8]
[]
[null,"Determina la componente de B en la dirección de A si"]
[]
[null,"A = ",-9,-3,6]
[null,"B = ",9,1,-9]
[]
[null,"Determina los ángulos directores del vector A-B"]
[]
[null,"A = ",2,-4,3]
[null,"B = ",-1,3,-5]
[]
[null,"Determina el producto punto A.B si"]
[]
[null,"A = ",-5,7,10]
[null,"B = ",7,2,9]